BEGIN:VCALENDAR
VERSION:2.0
PRODID:spatie/icalendar-generator
DESCRIPTION:Events from Rhode Island Coalition Against Domestic Violence
X-WR-CALDESC:Events from Rhode Island Coalition Against Domestic Violence
REFRESH-INTERVAL;VALUE=DURATION:PT1440M
X-PUBLISHED-TTL:PT1440M
BEGIN:VTIMEZONE
TZID:America/New_York
BEGIN:STANDARD
DTSTART:20251102T020000Z
TZOFFSETFROM:-0400
TZOFFSETTO:-0500
END:STANDARD
BEGIN:DAYLIGHT
DTSTART:20260308T020000Z
TZOFFSETFROM:-0500
TZOFFSETTO:-0400
END:DAYLIGHT
BEGIN:STANDARD
DTSTART:20261101T020000Z
TZOFFSETFROM:-0400
TZOFFSETTO:-0500
END:STANDARD
END:VTIMEZONE
BEGIN:VTIMEZONE
TZID:UTC
BEGIN:STANDARD
DTSTART:20250727T021813Z
TZOFFSETFROM:+0000
TZOFFSETTO:+0000
END:STANDARD
END:VTIMEZONE
BEGIN:VEVENT
UID:43-33
DTSTAMP:20260423T021813Z
SUMMARY:End Abuse in Later Life Training for Direct Service Providers
LOCATION:RI Coalition Against Domestic Violence 641 Bald Hill Rd  Warwick R
 I 02886
ORGANIZER;CN=ricadvnewsite:MAILTO:carmen@ricadv.org
DTSTART;TZID=America/New_York:20260625T100000
DTEND;TZID=America/New_York:20260625T120000
X-ALT-DESC;FMTTYPE=TEXT/HTML:Facilitators: Cheryl Patanaude &amp;amp\; Mickaela
  Driscoll Date: Thursday\, June 25th Time: 10 AM - 12 PM Location: RICADV 
 Training Room 641 Bald Hill Rd Suite 1 Warwick\, RI. 02886 RSVP Here! This
  free training hosted by Saint Elizabeth Haven is geared towards service p
 roviders working with older and vulnerable adults explores abuse in later 
 life\,&amp;hellip\;
CATEGORIES:General
URL;VALUE=URI:https://ricadv.org/mc-events/end-abuse-in-later-life-training
 -for-direct-service-providers/
METHOD:PUBLISH
END:VEVENT
END:VCALENDAR