BEGIN:VCALENDAR
VERSION:2.0
PRODID:spatie/icalendar-generator
DESCRIPTION:Events from Rhode Island Coalition Against Domestic Violence
X-WR-CALDESC:Events from Rhode Island Coalition Against Domestic Violence
REFRESH-INTERVAL;VALUE=DURATION:PT1440M
X-PUBLISHED-TTL:PT1440M
BEGIN:VTIMEZONE
TZID:America/New_York
BEGIN:STANDARD
DTSTART:20251102T020000Z
TZOFFSETFROM:-0400
TZOFFSETTO:-0500
END:STANDARD
BEGIN:DAYLIGHT
DTSTART:20260308T020000Z
TZOFFSETFROM:-0500
TZOFFSETTO:-0400
END:DAYLIGHT
BEGIN:STANDARD
DTSTART:20261101T020000Z
TZOFFSETFROM:-0400
TZOFFSETTO:-0500
END:STANDARD
END:VTIMEZONE
BEGIN:VTIMEZONE
TZID:UTC
BEGIN:STANDARD
DTSTART:20250727T022013Z
TZOFFSETFROM:+0000
TZOFFSETTO:+0000
END:STANDARD
END:VTIMEZONE
BEGIN:VEVENT
UID:42-32
DTSTAMP:20260423T022013Z
SUMMARY:Advocating for LGBTQ+ Domestic Violence Survivors
LOCATION:RI Coalition Against Domestic Violence 641 Bald Hill Rd  Warwick R
 I 02886
ORGANIZER;CN=ricadvnewsite:MAILTO:carmen@ricadv.org
DTSTART;TZID=America/New_York:20260609T150000
DTEND;TZID=America/New_York:20260609T160000
X-ALT-DESC;FMTTYPE=TEXT/HTML:Facilitators: Anik Rounds (they/them)\, LGBTQ+
  Advocate\, Women's Resource Center Date: Tuesday\, June 9th Time: 3 PM 
 - 4 PM Location: RICADV Training Room 641 Bald Hill Rd Suite 1 Warwick\, R
 I. 02886 RSVP Here! This training will cover an overview of LGBTQ+ Identit
 ies\, prevalence of DV within LGBTQ+ communities and strategies for helpin
 g meet the needs of&amp;hellip\;
CATEGORIES:General
URL;VALUE=URI:https://ricadv.org/mc-events/advocating-for-lgbtq-domestic-vi
 olence-survivors/
METHOD:PUBLISH
END:VEVENT
END:VCALENDAR