BEGIN:VCALENDAR
VERSION:2.0
PRODID:spatie/icalendar-generator
DESCRIPTION:Events from Rhode Island Coalition Against Domestic Violence
X-WR-CALDESC:Events from Rhode Island Coalition Against Domestic Violence
REFRESH-INTERVAL;VALUE=DURATION:PT1440M
X-PUBLISHED-TTL:PT1440M
BEGIN:VTIMEZONE
TZID:America/New_York
BEGIN:STANDARD
DTSTART:20251102T020000Z
TZOFFSETFROM:-0400
TZOFFSETTO:-0500
END:STANDARD
BEGIN:DAYLIGHT
DTSTART:20260308T020000Z
TZOFFSETFROM:-0500
TZOFFSETTO:-0400
END:DAYLIGHT
BEGIN:STANDARD
DTSTART:20261101T020000Z
TZOFFSETFROM:-0400
TZOFFSETTO:-0500
END:STANDARD
END:VTIMEZONE
BEGIN:VTIMEZONE
TZID:UTC
BEGIN:STANDARD
DTSTART:20250727T021725Z
TZOFFSETFROM:+0000
TZOFFSETTO:+0000
END:STANDARD
END:VTIMEZONE
BEGIN:VEVENT
UID:41-31
DTSTAMP:20260423T021725Z
SUMMARY:Expressive Arts Workshop: Moving Towards Wholeness with Self Care/C
 ollective Care
LOCATION:RI Coalition Against Domestic Violence 641 Bald Hill Rd  Warwick R
 I 02886
ORGANIZER;CN=ricadvnewsite:MAILTO:carmen@ricadv.org
DTSTART;TZID=America/New_York:20260508T130000
DTEND;TZID=America/New_York:20260508T160000
X-ALT-DESC;FMTTYPE=TEXT/HTML:Facilitators: Cynthia Roberts &amp;amp\; Leslie Gr
 ant Date: Friday\, May 8th Time: 1 PM - 4 PM Location: RICADV Training Ro
 om 641 Bald Hill Rd Suite 1 Warwick\, RI. 02886 RSVP Here! All of us worki
 ng to create a world where collective thriving is possible need spaces whe
 re we can reflect and recharge. Facilitators will lead an&amp;hellip\;
CATEGORIES:General
URL;VALUE=URI:https://ricadv.org/mc-events/expressive-arts-workshop-moving-
 towards-wholeness-with-self-care-collective-care/
METHOD:PUBLISH
END:VEVENT
END:VCALENDAR